View In:
ArcGIS JavaScript
ArcGIS Online Map Viewer
ArcGIS Earth
Service Description: Interpolation_Temperatur_render
Name: Interpolation_Temperatur_render
Description:
Single Fused Map Cache: false
Extent:
XMin: 670110.8764368459
YMin: 6006830.835720718
XMax: 1665110.8764368459
YMax: 7364830.835720718
Spatial Reference: 102100
(3857)
LatestVCSWkid(0)
Initial Extent:
XMin: 670110.8764368459
YMin: 6006830.835720718
XMax: 1665110.8764368459
YMax: 7364830.835720718
Spatial Reference: 102100
(3857)
LatestVCSWkid(0)
Full Extent:
XMin: 670110.8764368459
YMin: 6006830.835720718
XMax: 1665110.8764368459
YMax: 7364830.835720718
Spatial Reference: 102100
(3857)
LatestVCSWkid(0)
Pixel Size X: 1000.0
Pixel Size Y: 1000.0
Band Count: 3
Pixel Type: U8
RasterFunction Infos: {"rasterFunctionInfos": [{
"name": "None",
"description": "",
"help": ""
}]}
Mensuration Capabilities: Basic
Inspection Capabilities:
Has Histograms: true
Has Colormap: false
Has Multi Dimensions : false
Rendering Rule:
Min Scale: 0
Max Scale: 0
Copyright Text:
Service Data Type: esriImageServiceDataTypeProcessed
Min Values: 0, 153, 0
Max Values: 255, 255, 255
Mean Values: 206.86056885989106, 232.40651370842446, 1.974199606313078
Standard Deviation Values: 83.53448445527125, 22.00014251626906, 7.750830253355843
Object ID Field:
Fields:
None
Default Mosaic Method: Center
Allowed Mosaic Methods:
SortField:
SortValue: null
Mosaic Operator: First
Default Compression Quality: 75
Default Resampling Method: Bilinear
Max Record Count: null
Max Image Height: 4100
Max Image Width: 15000
Max Download Image Count: null
Max Mosaic Image Count: null
Allow Raster Function: true
Allow Copy: true
Allow Analysis: true
Allow Compute TiePoints: false
Supports Statistics: false
Supports Advanced Queries: false
Use StandardizedQueries: true
Raster Type Infos:
Name: Raster Dataset
Description: Unterstützt alle ArcGIS-Raster-Datasets
Help:
Has Raster Attribute Table: false
Edit Fields Info: null
Ownership Based AccessControl For Rasters: null
Child Resources:
Info
Histograms
Statistics
Key Properties
Legend
Raster Function Infos
Supported Operations:
Export Image
Identify
Measure
Compute Histograms
Compute Statistics Histograms
Get Samples
Compute Class Statistics
Query Boundary
Compute Pixel Location
Compute Angles
Validate
Project