{
 "currentVersion": 11.3,
 "serviceDescription": "Interpolation_Temperatur_render",
 "name": "Interpolation_Temperatur_render",
 "description": "",
 "extent": {
  "xmin": 670110.8764368459,
  "ymin": 6006830.835720718,
  "xmax": 1665110.8764368459,
  "ymax": 7364830.835720718,
  "spatialReference": {
   "wkid": 102100,
   "latestWkid": 3857
  }
 },
 "initialExtent": {
  "xmin": 670110.8764368459,
  "ymin": 6006830.835720718,
  "xmax": 1665110.8764368459,
  "ymax": 7364830.835720718,
  "spatialReference": {
   "wkid": 102100,
   "latestWkid": 3857
  }
 },
 "fullExtent": {
  "xmin": 670110.8764368459,
  "ymin": 6006830.835720718,
  "xmax": 1665110.8764368459,
  "ymax": 7364830.835720718,
  "spatialReference": {
   "wkid": 102100,
   "latestWkid": 3857
  }
 },
 "sortableFields": "",
 "bandCount": 3,
 "pixelType": "U8",
 "minValues": [
  0,
  153,
  0
 ],
 "maxValues": [
  255,
  255,
  255
 ],
 "meanValues": [
  206.86056885989106,
  232.40651370842446,
  1.974199606313078
 ],
 "stdvValues": [
  83.53448445527125,
  22.00014251626906,
  7.750830253355843
 ],
 "hasMultidimensions": false,
 "pixelSizeX": 1000,
 "pixelSizeY": 1000,
 "meanPixelSize": 1000,
 "datasetFormat": "FGDBR",
 "uncompressedSize": 4053630,
 "blockWidth": 128,
 "blockHeight": 128,
 "compressionType": "LZ77",
 "bandNames": [
  "Band_1",
  "Band_2",
  "Band_3"
 ],
 "allowCopy": true,
 "allowAnalysis": true,
 "itemAccess": false,
 "inspectionCapabilities": "",
 "minPixelSize": 0,
 "maxPixelSize": 0,
 "copyrightText": "",
 "serviceDataType": "esriImageServiceDataTypeProcessed",
 "serviceSourceType": "esriImageServiceSourceTypeDataset",
 "objectIdField": "",
 "fields": [],
 "capabilities": "Image,Metadata,Mensuration",
 "defaultMosaicMethod": "Center",
 "allowedMosaicMethods": "",
 "sortField": "",
 "sortValue": null,
 "sortAscending": true,
 "mosaicOperator": "First",
 "maxDownloadSizeLimit": 2097196,
 "defaultCompressionQuality": 75,
 "defaultResamplingMethod": "Bilinear",
 "maxImageHeight": 4100,
 "maxImageWidth": 15000,
 "allowRasterFunction": true,
 "rasterFunctionInfos": [
  {
   "name": "None",
   "description": "",
   "help": ""
  }
 ],
 "rasterTypeInfos": [
  {
   "name": "Raster Dataset",
   "description": "Unterstützt alle ArcGIS-Raster-Datasets",
   "help": ""
  }
 ],
 "mensurationCapabilities": "Basic",
 "hasHistograms": true,
 "hasColormap": false,
 "hasRasterAttributeTable": false,
 "minScale": 0,
 "maxScale": 0,
 "exportTilesAllowed": false,
 "supportsStatistics": false,
 "supportsAdvancedQueries": false,
 "editFieldsInfo": null,
 "ownershipBasedAccessControlForRasters": null,
 "allowComputeTiePoints": false,
 "useStandardizedQueries": true,
 "advancedQueryCapabilities": {
  "useStandardizedQueries": true,
  "supportsStatistics": false,
  "supportsOrderBy": false,
  "supportsDistinct": false,
  "supportsPagination": false
 },
 "spatialReference": {
  "wkid": 102100,
  "latestWkid": 3857
 }
}
