View In:
ArcGIS JavaScript
ArcGIS Online Map Viewer
ArcGIS Earth
Service Description: EBKRegressionPrediction_prec_render
Name: EBKRegressionPrediction_prec_render
Description:
Single Fused Map Cache: false
Extent:
XMin: 670110.876436846
YMin: 6006830.83572072
XMax: 1665110.8764368459
YMax: 7364830.83572072
Spatial Reference: 102100
(3857)
LatestVCSWkid(0)
Initial Extent:
XMin: 670110.876436846
YMin: 6006830.83572072
XMax: 1665110.8764368459
YMax: 7364830.83572072
Spatial Reference: 102100
(3857)
LatestVCSWkid(0)
Full Extent:
XMin: 670110.876436846
YMin: 6006830.83572072
XMax: 1665110.8764368459
YMax: 7364830.83572072
Spatial Reference: 102100
(3857)
LatestVCSWkid(0)
Pixel Size X: 999.9999999999999
Pixel Size Y: 1000.0
Band Count: 1
Pixel Type: S8
RasterFunction Infos: {"rasterFunctionInfos": [{
"name": "None",
"description": "",
"help": ""
}]}
Mensuration Capabilities: Basic
Inspection Capabilities:
Has Histograms: true
Has Colormap: false
Has Multi Dimensions : false
Rendering Rule:
Min Scale: 0
Max Scale: 0
Copyright Text:
Service Data Type: esriImageServiceDataTypeThematic
Min Values: 0
Max Values: 7
Mean Values: 1.3086635389449766
Standard Deviation Values: 1.240230017637655
Object ID Field:
Fields:
None
Default Mosaic Method: Center
Allowed Mosaic Methods:
SortField:
SortValue: null
Mosaic Operator: First
Default Compression Quality: 75
Default Resampling Method: Bilinear
Max Record Count: null
Max Image Height: 4100
Max Image Width: 15000
Max Download Image Count: null
Max Mosaic Image Count: null
Allow Raster Function: true
Allow Copy: true
Allow Analysis: true
Allow Compute TiePoints: false
Supports Statistics: false
Supports Advanced Queries: false
Use StandardizedQueries: true
Raster Type Infos:
Name: Raster Dataset
Description: Unterstützt alle ArcGIS-Raster-Datasets
Help:
Has Raster Attribute Table: true
Edit Fields Info: null
Ownership Based AccessControl For Rasters: null
Child Resources:
Info
Raster Attribute Table
Histograms
Statistics
Key Properties
Legend
Raster Function Infos
Supported Operations:
Export Image
Identify
Measure
Compute Histograms
Compute Statistics Histograms
Get Samples
Compute Class Statistics
Query Boundary
Compute Pixel Location
Compute Angles
Validate
Project